BEGIN:VCALENDAR
PRODID:-//nuDatenautomaten//framework iCal4j //DE
VERSION:2.0
CALSCALE:GREGORIAN
BEGIN:VTIMEZONE
TZID:Europe/Berlin
LAST-MODIFIED:20260306T231828Z
TZURL:https://www.tzurl.org/zoneinfo/Europe/Berlin
X-LIC-LOCATION:Europe/Berlin
X-PROLEPTIC-TZNAME:LMT
BEGIN:STANDARD
TZNAME:CET
TZOFFSETFROM:+005328
TZOFFSETTO:+0100
DTSTART:18930401T000000
END:STANDARD
BEGIN:DAYLIGHT
TZNAME:CEST
TZOFFSETFROM:+0100
TZOFFSETTO:+0200
DTSTART:19160430T230000
RDATE:19400401T020000
RDATE:19430329T020000
RDATE:19460414T020000
RDATE:19470406T030000
RDATE:19480418T020000
RDATE:19490410T020000
RDATE:19800406T020000
END:DAYLIGHT
BEGIN:STANDARD
TZNAME:CET
TZOFFSETFROM:+0200
TZOFFSETTO:+0100
DTSTART:19161001T010000
RDATE:19421102T030000
RDATE:19431004T030000
RDATE:19441002T030000
RDATE:19451118T030000
RDATE:19461007T030000
END:STANDARD
BEGIN:DAYLIGHT
TZNAME:CEST
TZOFFSETFROM:+0100
TZOFFSETTO:+0200
DTSTART:19170416T020000
RRULE:FREQ=YEARLY;UNTIL=19180415T010000Z;BYMONTH=4;BYDAY=3MO
END:DAYLIGHT
BEGIN:STANDARD
TZNAME:CET
TZOFFSETFROM:+0200
TZOFFSETTO:+0100
DTSTART:19170917T030000
RRULE:FREQ=YEARLY;UNTIL=19180916T010000Z;BYMONTH=9;BYDAY=3MO
END:STANDARD
BEGIN:DAYLIGHT
TZNAME:CEST
TZOFFSETFROM:+0100
TZOFFSETTO:+0200
DTSTART:19440403T020000
RRULE:FREQ=YEARLY;UNTIL=19450402T010000Z;BYMONTH=4;BYDAY=1MO
END:DAYLIGHT
BEGIN:DAYLIGHT
TZNAME:CEMT
TZOFFSETFROM:+0200
TZOFFSETTO:+0300
DTSTART:19450524T020000
RDATE:19470511T030000
END:DAYLIGHT
BEGIN:DAYLIGHT
TZNAME:CEST
TZOFFSETFROM:+0300
TZOFFSETTO:+0200
DTSTART:19450924T030000
RDATE:19470629T030000
END:DAYLIGHT
BEGIN:STANDARD
TZNAME:CET
TZOFFSETFROM:+0100
TZOFFSETTO:+0100
DTSTART:19460101T000000
RDATE:19800101T000000
END:STANDARD
BEGIN:STANDARD
TZNAME:CET
TZOFFSETFROM:+0200
TZOFFSETTO:+0100
DTSTART:19471005T030000
RRULE:FREQ=YEARLY;UNTIL=19491002T010000Z;BYMONTH=10;BYDAY=1SU
END:STANDARD
BEGIN:STANDARD
TZNAME:CET
TZOFFSETFROM:+0200
TZOFFSETTO:+0100
DTSTART:19800928T030000
RRULE:FREQ=YEARLY;UNTIL=19950924T010000Z;BYMONTH=9;BYDAY=-1SU
END:STANDARD
BEGIN:DAYLIGHT
TZNAME:CEST
TZOFFSETFROM:+0100
TZOFFSETTO:+0200
DTSTART:19810329T020000
RRULE:FREQ=YEARLY;BYMONTH=3;BYDAY=-1SU
END:DAYLIGHT
BEGIN:STANDARD
TZNAME:CET
TZOFFSETFROM:+0200
TZOFFSETTO:+0100
DTSTART:19961027T030000
RRULE:FREQ=YEARLY;BYMONTH=10;BYDAY=-1SU
END:STANDARD
END:VTIMEZONE
BEGIN:VEVENT
DTSTAMP:20260419T234542Z
DTSTART;TZID=Europe/Berlin:20190913T201500
DTEND;TZID=Europe/Berlin:20190913T231500
SUMMARY:4. Kreisklasse Gruppe A SuS Waldenau V vs TuS Esingen VIII (15)
UID:ac87b63c-4e30-20b6-e053-1fc7a80a9014
STATUS:CONFIRMED
LAST-MODIFIED:20200810T142728Z
DESCRIPTION:4. Kreisklasse Herren Gruppe A\nBegegnungs-Nr: 15\nHeim: SuS Waldenau V\nGast: TuS Esingen VIII\n
LOCATION:
CATEGORIES:Saison 2019/20
END:VEVENT
BEGIN:VEVENT
DTSTAMP:20260419T234542Z
DTSTART;TZID=Europe/Berlin:20190920T201500
DTEND;TZID=Europe/Berlin:20190920T231500
SUMMARY:4. Kreisklasse Gruppe A SuS Waldenau V vs SC Cosmos Wedel VI (20)
UID:ac87b63c-4e90-20b6-e053-1fc7a80a9014
STATUS:CONFIRMED
LAST-MODIFIED:20200810T142728Z
DESCRIPTION:4. Kreisklasse Herren Gruppe A\nBegegnungs-Nr: 20\nHeim: SuS Waldenau V\nGast: SC Cosmos Wedel VI\n
LOCATION:
CATEGORIES:Saison 2019/20
END:VEVENT
BEGIN:VEVENT
DTSTAMP:20260419T234542Z
DTSTART;TZID=Europe/Berlin:20191115T201500
DTEND;TZID=Europe/Berlin:20191115T231500
SUMMARY:4. Kreisklasse Gruppe A SuS Waldenau V vs TSV Ellerbek VI (30)
UID:ac87b63c-4f73-20b6-e053-1fc7a80a9014
STATUS:CONFIRMED
LAST-MODIFIED:20200810T142728Z
DESCRIPTION:4. Kreisklasse Herren Gruppe A\nBegegnungs-Nr: 30\nHeim: SuS Waldenau V\nGast: TSV Ellerbek VI\n
LOCATION:
CATEGORIES:Saison 2019/20
END:VEVENT
BEGIN:VEVENT
DTSTAMP:20260419T234542Z
DTSTART;TZID=Europe/Berlin:20191108T201500
DTEND;TZID=Europe/Berlin:20191108T231500
SUMMARY:4. Kreisklasse Gruppe A SuS Waldenau V vs Elmshorner MTV II (34)
UID:ac87b63c-4fc1-20b6-e053-1fc7a80a9014
STATUS:CONFIRMED
LAST-MODIFIED:20200810T142728Z
DESCRIPTION:4. Kreisklasse Herren Gruppe A\nBegegnungs-Nr: 34\nHeim: SuS Waldenau V\nGast: Elmshorner MTV II\n
LOCATION:
CATEGORIES:Saison 2019/20
END:VEVENT
BEGIN:VEVENT
DTSTAMP:20260419T234542Z
DTSTART;TZID=Europe/Berlin:20191129T201500
DTEND;TZID=Europe/Berlin:20191129T231500
SUMMARY:4. Kreisklasse Gruppe A SuS Waldenau V vs SV Friedrichsgabe VI (50)
UID:ac87b63c-513d-20b6-e053-1fc7a80a9014
STATUS:CONFIRMED
LAST-MODIFIED:20200810T142728Z
DESCRIPTION:4. Kreisklasse Herren Gruppe A\nBegegnungs-Nr: 50\nHeim: SuS Waldenau V\nGast: SV Friedrichsgabe VI\n
LOCATION:
CATEGORIES:Saison 2019/20
END:VEVENT
BEGIN:VEVENT
DTSTAMP:20260419T234542Z
DTSTART;TZID=Europe/Berlin:20200214T201500
DTEND;TZID=Europe/Berlin:20200214T231500
SUMMARY:4. Kreisklasse Gruppe A SuS Waldenau V vs Moorreger SV VIII (120)
UID:ac87b63c-52f4-20b6-e053-1fc7a80a9014
STATUS:CONFIRMED
LAST-MODIFIED:20200810T142729Z
DESCRIPTION:4. Kreisklasse Herren Gruppe A\nBegegnungs-Nr: 120\nHeim: SuS Waldenau V\nGast: Moorreger SV VIII\n
LOCATION:
CATEGORIES:Saison 2019/20
END:VEVENT
BEGIN:VEVENT
DTSTAMP:20260419T234542Z
DTSTART;TZID=Europe/Berlin:20200306T201500
DTEND;TZID=Europe/Berlin:20200306T231500
SUMMARY:4. Kreisklasse Gruppe A SuS Waldenau V vs TuS Holstein Quickborn V (155)
UID:ac87b63c-5498-20b6-e053-1fc7a80a9014
STATUS:CONFIRMED
LAST-MODIFIED:20200810T142729Z
DESCRIPTION:4. Kreisklasse Herren Gruppe A\nBegegnungs-Nr: 155\nHeim: SuS Waldenau V\nGast: TuS Holstein Quickborn V\n
LOCATION:
CATEGORIES:Saison 2019/20
END:VEVENT
BEGIN:VEVENT
DTSTAMP:20260419T234542Z
DTSTART;TZID=Europe/Berlin:20190906T201500
DTEND;TZID=Europe/Berlin:20190906T231500
SUMMARY:4. Kreisklasse Gruppe A Voßlocher SV IV vs SuS Waldenau V (10)
UID:ac87b63c-4dcc-20b6-e053-1fc7a80a9014
STATUS:CONFIRMED
LAST-MODIFIED:20200810T142728Z
DESCRIPTION:4. Kreisklasse Herren Gruppe A\nBegegnungs-Nr: 10\nHeim: Voßlocher SV IV\nGast: SuS Waldenau V\n
LOCATION:
CATEGORIES:Saison 2019/20
END:VEVENT
BEGIN:VEVENT
DTSTAMP:20260419T234542Z
DTSTART;TZID=Europe/Berlin:20190926T201500
DTEND;TZID=Europe/Berlin:20190926T231500
SUMMARY:4. Kreisklasse Gruppe A Moorreger SV VIII vs SuS Waldenau V (23)
UID:ac87b63c-4ed2-20b6-e053-1fc7a80a9014
STATUS:CONFIRMED
LAST-MODIFIED:20200810T142728Z
DESCRIPTION:4. Kreisklasse Herren Gruppe A\nBegegnungs-Nr: 23\nHeim: Moorreger SV VIII\nGast: SuS Waldenau V\n
LOCATION:
CATEGORIES:Saison 2019/20
END:VEVENT
BEGIN:VEVENT
DTSTAMP:20260419T234542Z
DTSTART;TZID=Europe/Berlin:20191111T201500
DTEND;TZID=Europe/Berlin:20191111T231500
SUMMARY:4. Kreisklasse Gruppe A TuS Holstein Quickborn V vs SuS Waldenau V (37)
UID:ac87b63c-4ffc-20b6-e053-1fc7a80a9014
STATUS:CONFIRMED
LAST-MODIFIED:20200810T142728Z
DESCRIPTION:4. Kreisklasse Herren Gruppe A\nBegegnungs-Nr: 37\nHeim: TuS Holstein Quickborn V\nGast: SuS Waldenau V\n
LOCATION:
CATEGORIES:Saison 2019/20
END:VEVENT
BEGIN:VEVENT
DTSTAMP:20260419T234542Z
DTSTART;TZID=Europe/Berlin:20191118T200000
DTEND;TZID=Europe/Berlin:20191118T230000
SUMMARY:4. Kreisklasse Gruppe A Halstenbeker TS II vs SuS Waldenau V (41)
UID:ac87b63c-506b-20b6-e053-1fc7a80a9014
STATUS:CONFIRMED
LAST-MODIFIED:20200810T142728Z
DESCRIPTION:4. Kreisklasse Herren Gruppe A\nBegegnungs-Nr: 41\nHeim: Halstenbeker TS II\nGast: SuS Waldenau V\n
LOCATION:
CATEGORIES:Saison 2019/20
END:VEVENT
BEGIN:VEVENT
DTSTAMP:20260419T234542Z
DTSTART;TZID=Europe/Berlin:20191202T201500
DTEND;TZID=Europe/Berlin:20191202T231500
SUMMARY:4. Kreisklasse Gruppe A TuS Hemdingen-Bilsen II vs SuS Waldenau V (51)
UID:ac87b63c-514f-20b6-e053-1fc7a80a9014
STATUS:CONFIRMED
LAST-MODIFIED:20200810T142728Z
DESCRIPTION:4. Kreisklasse Herren Gruppe A\nBegegnungs-Nr: 51\nHeim: TuS Hemdingen-Bilsen II\nGast: SuS Waldenau V\n
LOCATION:
CATEGORIES:Saison 2019/20
END:VEVENT
BEGIN:VEVENT
DTSTAMP:20260419T234542Z
DTSTART;TZID=Europe/Berlin:20200206T203000
DTEND;TZID=Europe/Berlin:20200206T233000
SUMMARY:4. Kreisklasse Gruppe A SC Cosmos Wedel VI vs SuS Waldenau V (114)
UID:ac87b63c-52b9-20b6-e053-1fc7a80a9014
STATUS:CONFIRMED
LAST-MODIFIED:20200810T142728Z
DESCRIPTION:4. Kreisklasse Herren Gruppe A\nBegegnungs-Nr: 114\nHeim: SC Cosmos Wedel VI\nGast: SuS Waldenau V\n
LOCATION:
CATEGORIES:Saison 2019/20
END:VEVENT
BEGIN:VEVENT
DTSTAMP:20260419T234542Z
DTSTART;TZID=Europe/Berlin:20200129T201500
DTEND;TZID=Europe/Berlin:20200129T231500
SUMMARY:4. Kreisklasse Gruppe A TuS Esingen VIII vs SuS Waldenau V (122)
UID:ac87b63c-531d-20b6-e053-1fc7a80a9014
STATUS:CONFIRMED
LAST-MODIFIED:20200810T142729Z
DESCRIPTION:4. Kreisklasse Herren Gruppe A\nBegegnungs-Nr: 122\nHeim: TuS Esingen VIII\nGast: SuS Waldenau V\n
LOCATION:
CATEGORIES:Saison 2019/20
END:VEVENT
BEGIN:VEVENT
DTSTAMP:20260419T234542Z
DTSTART;TZID=Europe/Berlin:20200217T201500
DTEND;TZID=Europe/Berlin:20200217T231500
SUMMARY:4. Kreisklasse Gruppe A TSV Ellerbek VI vs SuS Waldenau V (130)
UID:ac87b63c-5396-20b6-e053-1fc7a80a9014
STATUS:CONFIRMED
LAST-MODIFIED:20200810T142729Z
DESCRIPTION:4. Kreisklasse Herren Gruppe A\nBegegnungs-Nr: 130\nHeim: TSV Ellerbek VI\nGast: SuS Waldenau V\n
LOCATION:
CATEGORIES:Saison 2019/20
END:VEVENT
BEGIN:VEVENT
DTSTAMP:20260419T234542Z
DTSTART;TZID=Europe/Berlin:20200226T201500
DTEND;TZID=Europe/Berlin:20200226T231500
SUMMARY:4. Kreisklasse Gruppe A Elmshorner MTV II vs SuS Waldenau V (132)
UID:ac87b63c-53ba-20b6-e053-1fc7a80a9014
STATUS:CONFIRMED
LAST-MODIFIED:20200810T142729Z
DESCRIPTION:4. Kreisklasse Herren Gruppe A\nBegegnungs-Nr: 132\nHeim: Elmshorner MTV II\nGast: SuS Waldenau V\n
LOCATION:
CATEGORIES:Saison 2019/20
END:VEVENT
END:VCALENDAR
