BEGIN:VCALENDAR
PRODID:-//nuDatenautomaten//framework iCal4j //DE
VERSION:2.0
CALSCALE:GREGORIAN
BEGIN:VTIMEZONE
TZID:Europe/Berlin
LAST-MODIFIED:20260306T231828Z
TZURL:https://www.tzurl.org/zoneinfo/Europe/Berlin
X-LIC-LOCATION:Europe/Berlin
X-PROLEPTIC-TZNAME:LMT
BEGIN:STANDARD
TZNAME:CET
TZOFFSETFROM:+005328
TZOFFSETTO:+0100
DTSTART:18930401T000000
END:STANDARD
BEGIN:DAYLIGHT
TZNAME:CEST
TZOFFSETFROM:+0100
TZOFFSETTO:+0200
DTSTART:19160430T230000
RDATE:19400401T020000
RDATE:19430329T020000
RDATE:19460414T020000
RDATE:19470406T030000
RDATE:19480418T020000
RDATE:19490410T020000
RDATE:19800406T020000
END:DAYLIGHT
BEGIN:STANDARD
TZNAME:CET
TZOFFSETFROM:+0200
TZOFFSETTO:+0100
DTSTART:19161001T010000
RDATE:19421102T030000
RDATE:19431004T030000
RDATE:19441002T030000
RDATE:19451118T030000
RDATE:19461007T030000
END:STANDARD
BEGIN:DAYLIGHT
TZNAME:CEST
TZOFFSETFROM:+0100
TZOFFSETTO:+0200
DTSTART:19170416T020000
RRULE:FREQ=YEARLY;UNTIL=19180415T010000Z;BYMONTH=4;BYDAY=3MO
END:DAYLIGHT
BEGIN:STANDARD
TZNAME:CET
TZOFFSETFROM:+0200
TZOFFSETTO:+0100
DTSTART:19170917T030000
RRULE:FREQ=YEARLY;UNTIL=19180916T010000Z;BYMONTH=9;BYDAY=3MO
END:STANDARD
BEGIN:DAYLIGHT
TZNAME:CEST
TZOFFSETFROM:+0100
TZOFFSETTO:+0200
DTSTART:19440403T020000
RRULE:FREQ=YEARLY;UNTIL=19450402T010000Z;BYMONTH=4;BYDAY=1MO
END:DAYLIGHT
BEGIN:DAYLIGHT
TZNAME:CEMT
TZOFFSETFROM:+0200
TZOFFSETTO:+0300
DTSTART:19450524T020000
RDATE:19470511T030000
END:DAYLIGHT
BEGIN:DAYLIGHT
TZNAME:CEST
TZOFFSETFROM:+0300
TZOFFSETTO:+0200
DTSTART:19450924T030000
RDATE:19470629T030000
END:DAYLIGHT
BEGIN:STANDARD
TZNAME:CET
TZOFFSETFROM:+0100
TZOFFSETTO:+0100
DTSTART:19460101T000000
RDATE:19800101T000000
END:STANDARD
BEGIN:STANDARD
TZNAME:CET
TZOFFSETFROM:+0200
TZOFFSETTO:+0100
DTSTART:19471005T030000
RRULE:FREQ=YEARLY;UNTIL=19491002T010000Z;BYMONTH=10;BYDAY=1SU
END:STANDARD
BEGIN:STANDARD
TZNAME:CET
TZOFFSETFROM:+0200
TZOFFSETTO:+0100
DTSTART:19800928T030000
RRULE:FREQ=YEARLY;UNTIL=19950924T010000Z;BYMONTH=9;BYDAY=-1SU
END:STANDARD
BEGIN:DAYLIGHT
TZNAME:CEST
TZOFFSETFROM:+0100
TZOFFSETTO:+0200
DTSTART:19810329T020000
RRULE:FREQ=YEARLY;BYMONTH=3;BYDAY=-1SU
END:DAYLIGHT
BEGIN:STANDARD
TZNAME:CET
TZOFFSETFROM:+0200
TZOFFSETTO:+0100
DTSTART:19961027T030000
RRULE:FREQ=YEARLY;BYMONTH=10;BYDAY=-1SU
END:STANDARD
END:VTIMEZONE
BEGIN:VEVENT
DTSTAMP:20260422T210109Z
DTSTART;TZID=Europe/Berlin:20100212T200000
DTEND;TZID=Europe/Berlin:20100212T230000
SUMMARY:Bezirksoberliga Süd SF Oesede II vs TV Dinklage (12)
UID:600e4e2b-bd44-3ce1-e053-1fc7a80a6bb5
STATUS:CONFIRMED
LAST-MODIFIED:20100214T100549Z
DESCRIPTION:Bezirksoberliga Herren Süd\nBegegnungs-Nr: 12\nHeim: SF Oesede II\nGast: TV Dinklage\n
LOCATION:
CATEGORIES:Saison 2009/10
END:VEVENT
BEGIN:VEVENT
DTSTAMP:20260422T210109Z
DTSTART;TZID=Europe/Berlin:20100327T160000
DTEND;TZID=Europe/Berlin:20100327T190000
SUMMARY:Bezirksoberliga Süd SF Oesede II vs TTV Cloppenburg (39)
UID:600e4e2b-bd49-3ce1-e053-1fc7a80a6bb5
STATUS:CONFIRMED
LAST-MODIFIED:20100328T200109Z
DESCRIPTION:Bezirksoberliga Herren Süd\nBegegnungs-Nr: 39\nHeim: SF Oesede II\nGast: TTV Cloppenburg\n
LOCATION:
CATEGORIES:Saison 2009/10
END:VEVENT
BEGIN:VEVENT
DTSTAMP:20260422T210109Z
DTSTART;TZID=Europe/Berlin:20100131T140000
DTEND;TZID=Europe/Berlin:20100131T170000
SUMMARY:Bezirksoberliga Süd SF Oesede II vs Spvg. Oldendorf II (7)
UID:600e4e2b-bd50-3ce1-e053-1fc7a80a6bb5
STATUS:CONFIRMED
LAST-MODIFIED:20100201T184541Z
DESCRIPTION:Bezirksoberliga Herren Süd\nBegegnungs-Nr: 7\nHeim: SF Oesede II\nGast: Spvg. Oldendorf II\n
LOCATION:
CATEGORIES:Saison 2009/10
END:VEVENT
BEGIN:VEVENT
DTSTAMP:20260422T210109Z
DTSTART;TZID=Europe/Berlin:20091114T130000
DTEND;TZID=Europe/Berlin:20091114T160000
SUMMARY:Bezirksoberliga Süd SF Oesede II vs TV Hude II (30)
UID:600e4e2a-b74c-3ce1-e053-1fc7a80a6bb5
STATUS:CONFIRMED
LAST-MODIFIED:20091116T202540Z
DESCRIPTION:Bezirksoberliga Herren Süd\nBegegnungs-Nr: 30\nHeim: SF Oesede II\nGast: TV Hude II\n
LOCATION:
CATEGORIES:Saison 2009/10
END:VEVENT
BEGIN:VEVENT
DTSTAMP:20260422T210109Z
DTSTART;TZID=Europe/Berlin:20090913T140000
DTEND;TZID=Europe/Berlin:20090913T170000
SUMMARY:Bezirksoberliga Süd SF Oesede II vs TSG Burg Gretesch II (33)
UID:600e4e2a-b74a-3ce1-e053-1fc7a80a6bb5
STATUS:CONFIRMED
LAST-MODIFIED:20090915T193528Z
DESCRIPTION:Bezirksoberliga Herren Süd\nBegegnungs-Nr: 33\nHeim: SF Oesede II\nGast: TSG Burg Gretesch II\n
LOCATION:
CATEGORIES:Saison 2009/10
END:VEVENT
BEGIN:VEVENT
DTSTAMP:20260422T210109Z
DTSTART;TZID=Europe/Berlin:20091122T150000
DTEND;TZID=Europe/Berlin:20091122T180000
SUMMARY:Bezirksoberliga Süd SF Oesede II vs BV Essen (23)
UID:600e4e2a-b90f-3ce1-e053-1fc7a80a6bb5
STATUS:CONFIRMED
LAST-MODIFIED:20091126T200107Z
DESCRIPTION:Bezirksoberliga Herren Süd\nBegegnungs-Nr: 23\nHeim: SF Oesede II\nGast: BV Essen\n
LOCATION:
CATEGORIES:Saison 2009/10
END:VEVENT
BEGIN:VEVENT
DTSTAMP:20260422T210109Z
DTSTART;TZID=Europe/Berlin:20091128T160000
DTEND;TZID=Europe/Berlin:20091128T190000
SUMMARY:Bezirksoberliga Süd SF Oesede II vs TTSC 09 Delmenhorst II (13)
UID:600e4e2a-b91f-3ce1-e053-1fc7a80a6bb5
STATUS:CONFIRMED
LAST-MODIFIED:20091130T211550Z
DESCRIPTION:Bezirksoberliga Herren Süd\nBegegnungs-Nr: 13\nHeim: SF Oesede II\nGast: TTSC 09 Delmenhorst II\n
LOCATION:
CATEGORIES:Saison 2009/10
END:VEVENT
BEGIN:VEVENT
DTSTAMP:20260422T210109Z
DTSTART;TZID=Europe/Berlin:20091024T160000
DTEND;TZID=Europe/Berlin:20091024T190000
SUMMARY:Bezirksoberliga Süd SF Oesede II vs SV Concordia Belm-Powe (44)
UID:600e4e2a-bec6-3ce1-e053-1fc7a80a6bb5
STATUS:CONFIRMED
LAST-MODIFIED:20091026T192021Z
DESCRIPTION:Bezirksoberliga Herren Süd\nBegegnungs-Nr: 44\nHeim: SF Oesede II\nGast: SV Concordia Belm-Powe\n
LOCATION:
CATEGORIES:Saison 2009/10
END:VEVENT
BEGIN:VEVENT
DTSTAMP:20260422T210109Z
DTSTART;TZID=Europe/Berlin:20091213T140000
DTEND;TZID=Europe/Berlin:20091213T170000
SUMMARY:Bezirksoberliga Süd SF Oesede II vs STV Barßel (42)
UID:600e4e2a-bec8-3ce1-e053-1fc7a80a6bb5
STATUS:CONFIRMED
LAST-MODIFIED:20091213T185518Z
DESCRIPTION:Bezirksoberliga Herren Süd\nBegegnungs-Nr: 42\nHeim: SF Oesede II\nGast: STV Barßel\n
LOCATION:
CATEGORIES:Saison 2009/10
END:VEVENT
BEGIN:VEVENT
DTSTAMP:20260422T210109Z
DTSTART;TZID=Europe/Berlin:20100314T110000
DTEND;TZID=Europe/Berlin:20100314T140000
SUMMARY:Bezirksoberliga Süd TTSC 09 Delmenhorst II vs SF Oesede II (31)
UID:600e4e2b-bd3d-3ce1-e053-1fc7a80a6bb5
STATUS:CONFIRMED
LAST-MODIFIED:20100317T094756Z
DESCRIPTION:Bezirksoberliga Herren Süd\nBegegnungs-Nr: 31\nHeim: TTSC 09 Delmenhorst II\nGast: SF Oesede II\n
LOCATION:
CATEGORIES:Saison 2009/10
END:VEVENT
BEGIN:VEVENT
DTSTAMP:20260422T210109Z
DTSTART;TZID=Europe/Berlin:20100313T180000
DTEND;TZID=Europe/Berlin:20100313T210000
SUMMARY:Bezirksoberliga Süd STV Barßel vs SF Oesede II (30)
UID:600e4e2b-bd4e-3ce1-e053-1fc7a80a6bb5
STATUS:CONFIRMED
LAST-MODIFIED:20100317T094650Z
DESCRIPTION:Bezirksoberliga Herren Süd\nBegegnungs-Nr: 30\nHeim: STV Barßel\nGast: SF Oesede II\n\nAdresse: Westmarkstraße 1\, 26676 Barßel\n
LOCATION:Westmarkstraße 1\, 26676 Barßel
CATEGORIES:Saison 2009/10
END:VEVENT
BEGIN:VEVENT
DTSTAMP:20260422T210109Z
DTSTART;TZID=Europe/Berlin:20100321T140000
DTEND;TZID=Europe/Berlin:20100321T170000
SUMMARY:Bezirksoberliga Süd TSG Burg Gretesch II vs SF Oesede II (34)
UID:600e4e2b-bf3a-3ce1-e053-1fc7a80a6bb5
STATUS:CONFIRMED
LAST-MODIFIED:20100322T204657Z
DESCRIPTION:Bezirksoberliga Herren Süd\nBegegnungs-Nr: 34\nHeim: TSG Burg Gretesch II\nGast: SF Oesede II\n\nAdresse: Am Hallenbad 5\, 49086 Osnabrück\n
LOCATION:Am Hallenbad 5\, 49086 Osnabrück
CATEGORIES:Saison 2009/10
END:VEVENT
BEGIN:VEVENT
DTSTAMP:20260422T210109Z
DTSTART;TZID=Europe/Berlin:20100307T170000
DTEND;TZID=Europe/Berlin:20100307T200000
SUMMARY:Bezirksoberliga Süd TV Hude II vs SF Oesede II (27)
UID:600e4e2b-bf3b-3ce1-e053-1fc7a80a6bb5
STATUS:CONFIRMED
LAST-MODIFIED:20100307T212224Z
DESCRIPTION:Bezirksoberliga Herren Süd\nBegegnungs-Nr: 27\nHeim: TV Hude II\nGast: SF Oesede II\n\nAdresse: Hohelucht 13\, 27798 Hude\n
LOCATION:Hohelucht 13\, 27798 Hude
CATEGORIES:Saison 2009/10
END:VEVENT
BEGIN:VEVENT
DTSTAMP:20260422T210109Z
DTSTART;TZID=Europe/Berlin:20100207T140000
DTEND;TZID=Europe/Berlin:20100207T170000
SUMMARY:Bezirksoberliga Süd BV Essen vs SF Oesede II (11)
UID:600e4e2b-bf41-3ce1-e053-1fc7a80a6bb5
STATUS:CONFIRMED
LAST-MODIFIED:20100209T203442Z
DESCRIPTION:Bezirksoberliga Herren Süd\nBegegnungs-Nr: 11\nHeim: BV Essen\nGast: SF Oesede II\n\nAdresse: Hasestr. 7\, 49632 Essen\n
LOCATION:Hasestr. 7\, 49632 Essen
CATEGORIES:Saison 2009/10
END:VEVENT
BEGIN:VEVENT
DTSTAMP:20260422T210109Z
DTSTART;TZID=Europe/Berlin:20091130T200000
DTEND;TZID=Europe/Berlin:20091130T230000
SUMMARY:Bezirksoberliga Süd Spvg. Oldendorf II vs SF Oesede II (41)
UID:600e4e2a-bec9-3ce1-e053-1fc7a80a6bb5
STATUS:CONFIRMED
LAST-MODIFIED:20091201T193612Z
DESCRIPTION:Bezirksoberliga Herren Süd\nBegegnungs-Nr: 41\nHeim: Spvg. Oldendorf II\nGast: SF Oesede II\n
LOCATION:
CATEGORIES:Saison 2009/10
END:VEVENT
BEGIN:VEVENT
DTSTAMP:20260422T210109Z
DTSTART;TZID=Europe/Berlin:20100205T200000
DTEND;TZID=Europe/Berlin:20100205T230000
SUMMARY:Bezirksoberliga Süd SV Concordia Belm-Powe vs SF Oesede II (8)
UID:600e4e58-82f7-3ce1-e053-1fc7a80a6bb5
STATUS:CONFIRMED
LAST-MODIFIED:20100209T203239Z
DESCRIPTION:Bezirksoberliga Herren Süd\nBegegnungs-Nr: 8\nHeim: SV Concordia Belm-Powe\nGast: SF Oesede II\n\nAdresse: Heideweg 25\, 49191 Belm\n
LOCATION:Heideweg 25\, 49191 Belm
CATEGORIES:Saison 2009/10
END:VEVENT
BEGIN:VEVENT
DTSTAMP:20260422T210109Z
DTSTART;TZID=Europe/Berlin:20091212T170000
DTEND;TZID=Europe/Berlin:20091212T200000
SUMMARY:Bezirksoberliga Süd TTV Cloppenburg vs SF Oesede II (17)
UID:600e4e58-d632-3ce1-e053-1fc7a80a6bb5
STATUS:CONFIRMED
LAST-MODIFIED:20091213T154547Z
DESCRIPTION:Bezirksoberliga Herren Süd\nBegegnungs-Nr: 17\nHeim: TTV Cloppenburg\nGast: SF Oesede II\n
LOCATION:
CATEGORIES:Saison 2009/10
END:VEVENT
BEGIN:VEVENT
DTSTAMP:20260422T210109Z
DTSTART;TZID=Europe/Berlin:20091106T200000
DTEND;TZID=Europe/Berlin:20091106T230000
SUMMARY:Bezirksoberliga Süd TV Dinklage vs SF Oesede II (6)
UID:600e4e58-d633-3ce1-e053-1fc7a80a6bb5
STATUS:CONFIRMED
LAST-MODIFIED:20091109T113113Z
DESCRIPTION:Bezirksoberliga Herren Süd\nBegegnungs-Nr: 6\nHeim: TV Dinklage\nGast: SF Oesede II\n
LOCATION:
CATEGORIES:Saison 2009/10
END:VEVENT
END:VCALENDAR
